BEGIN:VCALENDAR
VERSION:2.0
PRODID:-// - ECPv6.15.20//NONSGML v1.0//EN
CALSCALE:GREGORIAN
METHOD:PUBLISH
X-ORIGINAL-URL:https://quantum-bc.ca
X-WR-CALDESC:Events for 
REFRESH-INTERVAL;VALUE=DURATION:PT1H
X-Robots-Tag:noindex
X-PUBLISHED-TTL:PT1H
BEGIN:VTIMEZONE
TZID:America/Vancouver
BEGIN:DAYLIGHT
TZOFFSETFROM:-0800
TZOFFSETTO:-0700
TZNAME:PDT
DTSTART:20230312T100000
END:DAYLIGHT
BEGIN:STANDARD
TZOFFSETFROM:-0700
TZOFFSETTO:-0800
TZNAME:PST
DTSTART:20231105T090000
END:STANDARD
BEGIN:DAYLIGHT
TZOFFSETFROM:-0800
TZOFFSETTO:-0700
TZNAME:PDT
DTSTART:20240310T100000
END:DAYLIGHT
BEGIN:STANDARD
TZOFFSETFROM:-0700
TZOFFSETTO:-0800
TZNAME:PST
DTSTART:20241103T090000
END:STANDARD
BEGIN:DAYLIGHT
TZOFFSETFROM:-0800
TZOFFSETTO:-0700
TZNAME:PDT
DTSTART:20250309T100000
END:DAYLIGHT
BEGIN:STANDARD
TZOFFSETFROM:-0700
TZOFFSETTO:-0800
TZNAME:PST
DTSTART:20251102T090000
END:STANDARD
END:VTIMEZONE
BEGIN:VEVENT
DTSTART;TZID=America/Vancouver:20240910T140000
DTEND;TZID=America/Vancouver:20240910T150000
DTSTAMP:20260419T163745
CREATED:20240909T172312Z
LAST-MODIFIED:20240909T172346Z
UID:7450-1725976800-1725980400@quantum-bc.ca
SUMMARY:Quantum BC Seminar Series - Dr. Shohini Ghose
DESCRIPTION:Quantum BC Seminar Series \nTuesday\, September 10\, 2024 at 2pm BC Time with Dr. Shohini Ghose \n  \nJoin on Zoom: \nhttps://ubc.zoom.us/j/69443327772?pwd=TGhhTXFIQ3ZiUmNrN0pUa3FObTNydz09 \nMeeting ID: 694 4332 7772 \nPasscode: 996727 \n \nSeminar Title: Towards network quantum communication \nSeminar Abstract: \nQuantum approaches offer the promise of secure communications and novel schemes such as teleportation. A future quantum internet requires the development of quantum networking protocols as well as metrics to characterize and evaluate quantum resources and performance. This talk will describe our studies of multiparty protocols such as controlled teleportation\, multiparty computation and private comparison\, and evaluate their use for ensuring network security and privacy. \n  \nShort biography: \nShohini Ghose is a Professor of Physics and Computer Science at Wilfrid Laurier University and the Chief Technology Officer of the Quantum Algorithms Institute. She holds the NSERC Chair for Women in Science and Engineering (ON) and is the founding Director of the Laurier Centre for Women in Science. Her research focuses on quantum computation and communication. She and her research collaborators were the first to observe signatures of chaos in quantum entanglement\, and to demonstrate the first programmable simulations of quantum chaos on a quantum computer. She has also developed new quantum communication protocols and methods to generate\, concentrate and measure multiqubit entanglement. She is a member of Canada’s Quantum Advisory Council overseeing the National Quantum Strategy. Ghose is the recipient of several awards\, including a TED Senior Fellowship and selection to the College of the Royal Society of Canada. Her 2023 book Her Space\, Her Time: How trailblazing women scientists decoded the hidden universe has been shortlisted for the Science Writers and Communicators of Canada Book Award. \n 
URL:https://quantum-bc.ca/event/quantum-bc-seminar-series-dr-shohini-ghose/
END:VEVENT
END:VCALENDAR