BEGIN:VCALENDAR
VERSION:2.0
PRODID:-// - ECPv6.15.20//NONSGML v1.0//EN
CALSCALE:GREGORIAN
METHOD:PUBLISH
X-ORIGINAL-URL:https://quantum-bc.ca
X-WR-CALDESC:Events for 
REFRESH-INTERVAL;VALUE=DURATION:PT1H
X-Robots-Tag:noindex
X-PUBLISHED-TTL:PT1H
BEGIN:VTIMEZONE
TZID:America/Vancouver
BEGIN:DAYLIGHT
TZOFFSETFROM:-0800
TZOFFSETTO:-0700
TZNAME:PDT
DTSTART:20230312T100000
END:DAYLIGHT
BEGIN:STANDARD
TZOFFSETFROM:-0700
TZOFFSETTO:-0800
TZNAME:PST
DTSTART:20231105T090000
END:STANDARD
BEGIN:DAYLIGHT
TZOFFSETFROM:-0800
TZOFFSETTO:-0700
TZNAME:PDT
DTSTART:20240310T100000
END:DAYLIGHT
BEGIN:STANDARD
TZOFFSETFROM:-0700
TZOFFSETTO:-0800
TZNAME:PST
DTSTART:20241103T090000
END:STANDARD
BEGIN:DAYLIGHT
TZOFFSETFROM:-0800
TZOFFSETTO:-0700
TZNAME:PDT
DTSTART:20250309T100000
END:DAYLIGHT
BEGIN:STANDARD
TZOFFSETFROM:-0700
TZOFFSETTO:-0800
TZNAME:PST
DTSTART:20251102T090000
END:STANDARD
END:VTIMEZONE
BEGIN:VEVENT
DTSTART;TZID=America/Vancouver:20240611T140000
DTEND;TZID=America/Vancouver:20240611T150000
DTSTAMP:20260420T065148
CREATED:20240126T201544Z
LAST-MODIFIED:20240607T194649Z
UID:7178-1718114400-1718118000@quantum-bc.ca
SUMMARY:Quantum BC Seminar Series - Dr. Nir Rotenberg
DESCRIPTION:Join us on Tuesday\, June 11 at 2pm for a seminar by Dr. Nir Rotenberg from Queens University. \n Title: Towards quantum dot-based linear and nonlinear photonic networks \nAbstract: Self-assembled quantum dots in nanophotonic structures are a wonderful platform for the exploration of fundamental physics and for quantum photonic technologies. Fundamentally\, they allow for the controlled exploration of few-body effects and few-photon nonlinearities\, while from a technical perspective they act as on-demand sources of single or entangled photons\, all because of the high quality of both these emitters and the structures into which they are embedded. Recently\, at Queen’s University\, we have begun exploring other ways in which these properties could be used to realize quantum technologies\, focusing on quantum photonic circuits. In this talk\, I will discuss these efforts\, covering what is possible if the circuits are fully linear or if nonlinearities are available\, and highlighting roles that quantum dots may play. \nBio: Dr. Rotenberg leads the Quantum Nanophotonics Lab at Queen’s University in Canada\, where he has been since mid 2020. The groups research focuses on controlling and exploiting light-matter interactions with quantum dots embedded on photonic chips. This continues a research direction from his time at the Niels Bohr Institute\, before which he studied quantum optics with single organic molecules as a postdoc at the Max Planck Institute for the Science of Light in Germany. \n  \nhttps://ubc.zoom.us/j/69443327772?pwd=TGhhTXFIQ3ZiUmNrN0pUa3FObTNydz09 \nMeeting ID: 694 4332 7772 Passcode: 996727
URL:https://quantum-bc.ca/event/quantum-bc-seminar-series-dr-nir-rotenberg/
END:VEVENT
END:VCALENDAR