BEGIN:VCALENDAR
VERSION:2.0
PRODID:-// - ECPv6.15.20//NONSGML v1.0//EN
CALSCALE:GREGORIAN
METHOD:PUBLISH
X-ORIGINAL-URL:https://quantum-bc.ca
X-WR-CALDESC:Events for 
REFRESH-INTERVAL;VALUE=DURATION:PT1H
X-Robots-Tag:noindex
X-PUBLISHED-TTL:PT1H
BEGIN:VTIMEZONE
TZID:America/Vancouver
BEGIN:DAYLIGHT
TZOFFSETFROM:-0800
TZOFFSETTO:-0700
TZNAME:PDT
DTSTART:20230312T100000
END:DAYLIGHT
BEGIN:STANDARD
TZOFFSETFROM:-0700
TZOFFSETTO:-0800
TZNAME:PST
DTSTART:20231105T090000
END:STANDARD
BEGIN:DAYLIGHT
TZOFFSETFROM:-0800
TZOFFSETTO:-0700
TZNAME:PDT
DTSTART:20240310T100000
END:DAYLIGHT
BEGIN:STANDARD
TZOFFSETFROM:-0700
TZOFFSETTO:-0800
TZNAME:PST
DTSTART:20241103T090000
END:STANDARD
BEGIN:DAYLIGHT
TZOFFSETFROM:-0800
TZOFFSETTO:-0700
TZNAME:PDT
DTSTART:20250309T100000
END:DAYLIGHT
BEGIN:STANDARD
TZOFFSETFROM:-0700
TZOFFSETTO:-0800
TZNAME:PST
DTSTART:20251102T090000
END:STANDARD
END:VTIMEZONE
BEGIN:VEVENT
DTSTART;TZID=America/Vancouver:20240409T140000
DTEND;TZID=America/Vancouver:20240409T150000
DTSTAMP:20260420T094420
CREATED:20240325T211631Z
LAST-MODIFIED:20240408T234645Z
UID:7294-1712671200-1712674800@quantum-bc.ca
SUMMARY:Quantum BC Seminar Series - Nadish de Silva
DESCRIPTION:Join us on Tuesday\, April 9 at 2pm for a seminar by Dr. Nadish de Silva from the University of British Columbia. The title of his seminar is Efficiently achieving fault-tolerant quantum computation via teleportation.\n\n\n\nJoin on Zoom: \nhttps://ubc.zoom.us/j/69443327772?pwd=TGhhTXFIQ3ZiUmNrN0pUa3FObTNydz09 \nMeeting ID: 694 4332 7772 Passcode: 996727 \n\nJoin in Person: \nUBC: MCLD 3038 \nSFU: WAC 7200 \nUVIC: Online Only \n\nTitle: \nEfficiently achieving fault-tolerant quantum computation via teleportation \nAbstract: \nQuantum computers operate by manipulating quantum systems that are particularly susceptible to noise.  Classical redundancy-based error correction schemes cannot be applied as quantum data cannot be copied.  These challenges can be overcome by using a variation of  the ‘quantum teleportation’ protocol to implement those operations which cannot be easily done fault-tolerantly. \nThis process consumes expensive resources called ‘magic states’.  The vast quantity of these resources states required for achieving fault-tolerance is a significant bottleneck for experimental implementations of universal quantum computers. \nI will discuss a program of finding and classifying those quantum operations which can be performed with efficient use of magic state resources.  I will focus on the understanding of not just qubits but also the higher-dimensional ‘qudit’ case.  This is motivated by both practical reasons and for the resulting theoretical insights into the ultimate origin of quantum computational advantages.  Research into these quantum operations has remained active from their discovery twenty-five years ago to the present. \nThe results in this talk will include joint work with Chen\, Lautsch\, and Bampounis-Barbosa. \nBio: \nNadish de Silva is a Canada Research Chair in the Mathematics of Quantum Computation and an Assistant Professor in the Department of Mathematics at Simon Fraser University.  Broadly\, his research interests include quantum information and computation; nonlocality and contextuality; and operator algebras and noncommutative geometry. He is keenly interested in helping to elucidate the structural origins of computational and communicational advantages in both concrete quantum models and abstract postclassical models. These questions sit at the foundations of logic\, computer science\, and physics\, and involve disparate areas of maths: e.g. algorithms & complexity theory\, functional analysis\, number theory\, and category theory.
URL:https://quantum-bc.ca/event/quantum-bc-seminar-series-nadish-de-silva/
END:VEVENT
BEGIN:VEVENT
DTSTART;VALUE=DATE:20240426
DTEND;VALUE=DATE:20240427
DTSTAMP:20260420T094420
CREATED:20240312T183931Z
LAST-MODIFIED:20240312T184333Z
UID:7226-1714089600-1714175999@quantum-bc.ca
SUMMARY:Quantum BC Research Day
DESCRIPTION:Quantum BC Research Day \nFriday\, April 26\, 2024 \nWelcome to our second annual Quantum BC Research Day! This year\, join us at The University of British Columbia in the Fred Kaiser Building for a day filled with research talks\, group discussions\, a poster contest\, and lots of networking. This event is for all faculty\, industry\, and students involved in quantum computing. See you there! \nTo sign up to present a poster\, visit: QBC Research Day 2024 Poster Submission Form \nThis event will be in person and is sponsored by the Quantum Algorithms Institute and the UBC Quantum Computing Cluster. \n  \nhttps://www.eventbrite.com/e/quantum-bc-research-day-2024-tickets-851165648367 \n 
URL:https://quantum-bc.ca/event/quantum-bc-research-day/
LOCATION:University of British Columbia\, Macleod Room 3038\, Vancouver\, BC\, Canada
END:VEVENT
END:VCALENDAR