BEGIN:VCALENDAR
VERSION:2.0
PRODID:-// - ECPv6.15.20//NONSGML v1.0//EN
CALSCALE:GREGORIAN
METHOD:PUBLISH
X-ORIGINAL-URL:https://quantum-bc.ca
X-WR-CALDESC:Events for 
REFRESH-INTERVAL;VALUE=DURATION:PT1H
X-Robots-Tag:noindex
X-PUBLISHED-TTL:PT1H
BEGIN:VTIMEZONE
TZID:America/Vancouver
BEGIN:DAYLIGHT
TZOFFSETFROM:-0800
TZOFFSETTO:-0700
TZNAME:PDT
DTSTART:20220313T100000
END:DAYLIGHT
BEGIN:STANDARD
TZOFFSETFROM:-0700
TZOFFSETTO:-0800
TZNAME:PST
DTSTART:20221106T090000
END:STANDARD
BEGIN:DAYLIGHT
TZOFFSETFROM:-0800
TZOFFSETTO:-0700
TZNAME:PDT
DTSTART:20230312T100000
END:DAYLIGHT
BEGIN:STANDARD
TZOFFSETFROM:-0700
TZOFFSETTO:-0800
TZNAME:PST
DTSTART:20231105T090000
END:STANDARD
BEGIN:DAYLIGHT
TZOFFSETFROM:-0800
TZOFFSETTO:-0700
TZNAME:PDT
DTSTART:20240310T100000
END:DAYLIGHT
BEGIN:STANDARD
TZOFFSETFROM:-0700
TZOFFSETTO:-0800
TZNAME:PST
DTSTART:20241103T090000
END:STANDARD
END:VTIMEZONE
BEGIN:VEVENT
DTSTART;TZID=America/Vancouver:20230912T140000
DTEND;TZID=America/Vancouver:20230912T150000
DTSTAMP:20260421T001656
CREATED:20230808T183154Z
LAST-MODIFIED:20230906T004632Z
UID:6761-1694527200-1694530800@quantum-bc.ca
SUMMARY:Quantum BC Seminar Series -  Rogério de Sousa
DESCRIPTION:Join us on Tuesday\, September 12 at 2pm for a seminar by Dr. Rogério de Sousa from the University of Victoria. \nSept.2023.Seminar.RdeSousa \nTitle: Noise in Chip-Based Quantum Computers \nhttps://ubc.zoom.us/j/69443327772?pwd=TGhhTXFIQ3ZiUmNrN0pUa3FObTNydz09 \nMeeting ID: 694 4332 7772 \nPasscode: 996727 \nAbstract: Quantum computers are now available in several different chip-based technologies\, but their quantum evolution is noisy\, hindering demonstrations of quantum advantage over conventional computers. In this talk I will discuss the microscopic origin of electric and magnetic noise in the solid-state environment surrounding qubits. While some noise sources are intrinsic to the surfaces and interfaces within the chip [1]\, others are extrinsic in that they originate from impurities and defects within the materials forming the qubit [2\, 3]. I will describe strategies to reduce the impact of noise on quantum computers using both hardware [4] and software [5] approaches. \n[1] I. Diniz and R. de Sousa\, Intrinsic Photon Loss at the Interface of Superconducting Devices\, Phys. Rev. Lett. 125\, 147702 (2020).\n[2] N. Gorgichuk\, T. Junginger\, and R. de Sousa\, Modeling Dielectric Loss in Superconducting Resonators : Evidence for Interacting Atomic Two-Level Systems at the Nb /Oxide Interface\, Phys. Rev. Appl. 19\, 024006 (2023).\n[3] J.A. Nava Aquino and R. de Sousa\, Flux Noise in Disordered Spin Systems\, Phys. Rev. B 106\, 144506 (2022).\n[4] J.A. Nava Aquino and R. de Sousa\, Model for 1/f flux noise in superconducting aluminum devices: Impact of external magnetic fields\, Appl. Phys. Lett. 122\, 224003 (2023).\n[5] E. Wright and R. de Sousa\, Fast quantum gate design with deep reinforcement learning using real-time feedback on readout signals\, arXiv:2305.01169 [quant-ph]. \nBio: Rogério de Sousa\, Professor\, Department of Physics and Astronomy\, University of Victoria BC \nProfessor de Sousa obtained his B.Sc. in Physics at Universidade Estadual de Campinas\, Brazil\, and then moved to the USA to pursue a Ph.D. in physics and quantum computing at the University of Maryland\, College Park. He was a postdoctoral fellow at the Departments of Chemistry and Physics at University of California\, Berkeley\, and moved to Canada in 2007 to join the Dept. of Physics and Astronomy at University of Victoria. His research group focuses on how to design quantum computing hardware and software with less noise.  They are implementing quantum algorithms in the current generation of noisy intermediate-scale quantum devices\, and developing methods to benchmark as well as mitigate the impact of noise in them. \nProf. de Sousa is also interested in making quantum theory more accessible to people with different expertise. At UVic he teaches the course “Introductory Quantum Computing”\, targeted at second-year science and engineering students with no previous exposure to quantum theory.
URL:https://quantum-bc.ca/event/quantum-bc-seminar-series-rogerio-de-sousa/
END:VEVENT
BEGIN:VEVENT
DTSTART;VALUE=DATE:20230929
DTEND;VALUE=DATE:20231002
DTSTAMP:20260421T001656
CREATED:20230831T212042Z
LAST-MODIFIED:20230831T212042Z
UID:6792-1695945600-1696204799@quantum-bc.ca
SUMMARY:Q-Site Conference - September 29 to October 1\, 2023
DESCRIPTION:Discover the Potential of Quantum in Vancouver\n\n\nDiscover Q-SITE Vancouver\, an Educational Quantum Student Conference. \nHosted on the UBC campus this fall\, from September 29th to October 1st. Immerse yourself in captivating discussions and interactive workshops covering a diverse range of topics in the field of quantum information science and technology.  \n\n\nhttps://www.qsiteconf.ca/
URL:https://quantum-bc.ca/event/q-site-conference-september-29-to-october-1-2023/
LOCATION:University of British Columbia\, Macleod Room 3038\, Vancouver\, BC\, Canada
END:VEVENT
END:VCALENDAR