BEGIN:VCALENDAR
VERSION:2.0
PRODID:-// - ECPv6.15.20//NONSGML v1.0//EN
CALSCALE:GREGORIAN
METHOD:PUBLISH
X-ORIGINAL-URL:https://quantum-bc.ca
X-WR-CALDESC:Events for 
REFRESH-INTERVAL;VALUE=DURATION:PT1H
X-Robots-Tag:noindex
X-PUBLISHED-TTL:PT1H
BEGIN:VTIMEZONE
TZID:America/Vancouver
BEGIN:DAYLIGHT
TZOFFSETFROM:-0800
TZOFFSETTO:-0700
TZNAME:PDT
DTSTART:20220313T100000
END:DAYLIGHT
BEGIN:STANDARD
TZOFFSETFROM:-0700
TZOFFSETTO:-0800
TZNAME:PST
DTSTART:20221106T090000
END:STANDARD
BEGIN:DAYLIGHT
TZOFFSETFROM:-0800
TZOFFSETTO:-0700
TZNAME:PDT
DTSTART:20230312T100000
END:DAYLIGHT
BEGIN:STANDARD
TZOFFSETFROM:-0700
TZOFFSETTO:-0800
TZNAME:PST
DTSTART:20231105T090000
END:STANDARD
BEGIN:DAYLIGHT
TZOFFSETFROM:-0800
TZOFFSETTO:-0700
TZNAME:PDT
DTSTART:20240310T100000
END:DAYLIGHT
BEGIN:STANDARD
TZOFFSETFROM:-0700
TZOFFSETTO:-0800
TZNAME:PST
DTSTART:20241103T090000
END:STANDARD
END:VTIMEZONE
BEGIN:VEVENT
DTSTART;TZID=America/Vancouver:20230123T080000
DTEND;TZID=America/Vancouver:20230209T143000
DTSTAMP:20260421T112713
CREATED:20221206T232211Z
LAST-MODIFIED:20221207T000823Z
UID:6372-1674460800-1675953000@quantum-bc.ca
SUMMARY:Virtual Quantum Chemistry Workshop with Gate-Based Quantum Computing Using IBM Quantum
DESCRIPTION:We invite you to join a 6-day virtual workshop from the end of January to the beginning of February 2023. This year\, the workshop will focus on quantum chemistry on IBM’s gate-based quantum computers\, incorporating problem-based learning\, teamwork\, and best practices in quantum software development. By the end of the workshop\, you will be able to use the IBM Quantum platform and basic quantum computing tools to solve concrete\, small-scale quantum chemistry problems. The workshop will also include poster sessions and an awards ceremony for the best student team presentations.
URL:https://quantum-bc.ca/event/virtual-quantum-chemistry-workshop-with-gate-based-quantum-computing-using-ibm-quantum/
END:VEVENT
BEGIN:VEVENT
DTSTART;TZID=America/Vancouver:20230220T090000
DTEND;TZID=America/Vancouver:20230224T170000
DTSTAMP:20260421T112713
CREATED:20221206T232415Z
LAST-MODIFIED:20221207T000819Z
UID:6374-1676883600-1677258000@quantum-bc.ca
SUMMARY:Quantum Photonics Workshop
DESCRIPTION:The NSERC CREATE Quantum BC program and CMC Microsystems bring to you a workshop on the design\, fabrication\, and testing of quantum silicon photonic circuits used in quantum computer hardware. We invite you to join the workshop taking place in person at The University of British Columbia from February 20 to 24\, 2023.
URL:https://quantum-bc.ca/event/quantum-photonics-workshop/
END:VEVENT
END:VCALENDAR