BEGIN:VCALENDAR
VERSION:2.0
PRODID:-// - ECPv6.15.20//NONSGML v1.0//EN
CALSCALE:GREGORIAN
METHOD:PUBLISH
X-ORIGINAL-URL:https://quantum-bc.ca
X-WR-CALDESC:Events for 
REFRESH-INTERVAL;VALUE=DURATION:PT1H
X-Robots-Tag:noindex
X-PUBLISHED-TTL:PT1H
BEGIN:VTIMEZONE
TZID:America/Vancouver
BEGIN:DAYLIGHT
TZOFFSETFROM:-0800
TZOFFSETTO:-0700
TZNAME:PDT
DTSTART:20210314T100000
END:DAYLIGHT
BEGIN:STANDARD
TZOFFSETFROM:-0700
TZOFFSETTO:-0800
TZNAME:PST
DTSTART:20211107T090000
END:STANDARD
BEGIN:DAYLIGHT
TZOFFSETFROM:-0800
TZOFFSETTO:-0700
TZNAME:PDT
DTSTART:20220313T100000
END:DAYLIGHT
BEGIN:STANDARD
TZOFFSETFROM:-0700
TZOFFSETTO:-0800
TZNAME:PST
DTSTART:20221106T090000
END:STANDARD
BEGIN:DAYLIGHT
TZOFFSETFROM:-0800
TZOFFSETTO:-0700
TZNAME:PDT
DTSTART:20230312T100000
END:DAYLIGHT
BEGIN:STANDARD
TZOFFSETFROM:-0700
TZOFFSETTO:-0800
TZNAME:PST
DTSTART:20231105T090000
END:STANDARD
END:VTIMEZONE
BEGIN:VEVENT
DTSTART;TZID=America/Vancouver:20221201T120000
DTEND;TZID=America/Vancouver:20221201T130000
DTSTAMP:20260421T143302
CREATED:20221026T185441Z
LAST-MODIFIED:20221206T232955Z
UID:6188-1669896000-1669899600@quantum-bc.ca
SUMMARY:Quantum BC Fall 2022 Open House
DESCRIPTION:Learn more about getting involved with quantum computing at the undergraduate and graduate level\, and find out about our exciting outreach programs and courses! Email bahiyyih.peters@ubc.ca for the event link. \nWatch the recording on the Quantum BC Youtube channel: https://youtu.be/hK5PGxcewg0 \nView the open house slides here: https://docs.google.com/presentation/d/1lqygA0ne6naGdPLkgGGOG_tO5qQFw4dJhbm6vYkWqXI/edit?usp=sharing \n  \nQBC Open House Dec 1
URL:https://quantum-bc.ca/event/quantum-bc-fall-2022-open-house/
END:VEVENT
END:VCALENDAR