BEGIN:VCALENDAR
VERSION:2.0
PRODID:-// - ECPv6.15.20//NONSGML v1.0//EN
CALSCALE:GREGORIAN
METHOD:PUBLISH
X-ORIGINAL-URL:https://quantum-bc.ca
X-WR-CALDESC:Events for 
REFRESH-INTERVAL;VALUE=DURATION:PT1H
X-Robots-Tag:noindex
X-PUBLISHED-TTL:PT1H
BEGIN:VTIMEZONE
TZID:America/Vancouver
BEGIN:DAYLIGHT
TZOFFSETFROM:-0800
TZOFFSETTO:-0700
TZNAME:PDT
DTSTART:20210314T100000
END:DAYLIGHT
BEGIN:STANDARD
TZOFFSETFROM:-0700
TZOFFSETTO:-0800
TZNAME:PST
DTSTART:20211107T090000
END:STANDARD
BEGIN:DAYLIGHT
TZOFFSETFROM:-0800
TZOFFSETTO:-0700
TZNAME:PDT
DTSTART:20220313T100000
END:DAYLIGHT
BEGIN:STANDARD
TZOFFSETFROM:-0700
TZOFFSETTO:-0800
TZNAME:PST
DTSTART:20221106T090000
END:STANDARD
BEGIN:DAYLIGHT
TZOFFSETFROM:-0800
TZOFFSETTO:-0700
TZNAME:PDT
DTSTART:20230312T100000
END:DAYLIGHT
BEGIN:STANDARD
TZOFFSETFROM:-0700
TZOFFSETTO:-0800
TZNAME:PST
DTSTART:20231105T090000
END:STANDARD
END:VTIMEZONE
BEGIN:VEVENT
DTSTART;TZID=America/Vancouver:20220620T080000
DTEND;TZID=America/Vancouver:20220620T143000
DTSTAMP:20260421T235937
CREATED:20221026T184651Z
LAST-MODIFIED:20221026T184726Z
UID:6170-1655712000-1655735400@quantum-bc.ca
SUMMARY:Superconducting Quantum Device Workshop
DESCRIPTION:Quantum computing has the potential to solve problems beyond the capabilities of conventional supercomputers. It could revolutionize the advancement of several fields\, including biochemistry\, finance\, logistics\, and artificial intelligence. However\, building quantum hardware is a great challenge\, involving both concepts and technology that have little in common with those in conventional silicon chips. It involves cryogenic environments and in the currently most advanced approach\, it relies on superconducting circuits that display macroscopic quantum effects. These concepts and techniques are not part of the usual science and engineering curriculum. \nTo fill this gap\, the Universities of Calgary and Victoria\, the two NSERC CREATE programs –  Quantum BC and QSciTech – the three quantum institutes – Institut quantique\, Institute for Quantum Computing and the Stewart Blusson Quantum Matter Institute – and CMC Microsystems have joined forces to bring to you the workshop on the design\, fabrication\, and testing of superconducting devices used in quantum computer hardware. We invite you to join the virtual workshop taking place from June 20 to July 8.
URL:https://quantum-bc.ca/event/superconducting-quantum-device-workshop/
END:VEVENT
BEGIN:VEVENT
DTSTART;TZID=America/Vancouver:20220623T080000
DTEND;TZID=America/Vancouver:20220623T143000
DTSTAMP:20260421T235937
CREATED:20221026T184743Z
LAST-MODIFIED:20221026T184743Z
UID:6172-1655971200-1655994600@quantum-bc.ca
SUMMARY:Superconducting Quantum Device Workshop
DESCRIPTION:Quantum computing has the potential to solve problems beyond the capabilities of conventional supercomputers. It could revolutionize the advancement of several fields\, including biochemistry\, finance\, logistics\, and artificial intelligence. However\, building quantum hardware is a great challenge\, involving both concepts and technology that have little in common with those in conventional silicon chips. It involves cryogenic environments and in the currently most advanced approach\, it relies on superconducting circuits that display macroscopic quantum effects. These concepts and techniques are not part of the usual science and engineering curriculum. \nTo fill this gap\, the Universities of Calgary and Victoria\, the two NSERC CREATE programs –  Quantum BC and QSciTech – the three quantum institutes – Institut quantique\, Institute for Quantum Computing and the Stewart Blusson Quantum Matter Institute – and CMC Microsystems have joined forces to bring to you the workshop on the design\, fabrication\, and testing of superconducting devices used in quantum computer hardware. We invite you to join the virtual workshop taking place from June 20 to July 8.
URL:https://quantum-bc.ca/event/superconducting-quantum-device-workshop-2/
END:VEVENT
BEGIN:VEVENT
DTSTART;TZID=America/Vancouver:20220627T080000
DTEND;TZID=America/Vancouver:20220627T143000
DTSTAMP:20260421T235937
CREATED:20221026T184803Z
LAST-MODIFIED:20221026T184803Z
UID:6174-1656316800-1656340200@quantum-bc.ca
SUMMARY:Superconducting Quantum Device Workshop
DESCRIPTION:Quantum computing has the potential to solve problems beyond the capabilities of conventional supercomputers. It could revolutionize the advancement of several fields\, including biochemistry\, finance\, logistics\, and artificial intelligence. However\, building quantum hardware is a great challenge\, involving both concepts and technology that have little in common with those in conventional silicon chips. It involves cryogenic environments and in the currently most advanced approach\, it relies on superconducting circuits that display macroscopic quantum effects. These concepts and techniques are not part of the usual science and engineering curriculum. \nTo fill this gap\, the Universities of Calgary and Victoria\, the two NSERC CREATE programs –  Quantum BC and QSciTech – the three quantum institutes – Institut quantique\, Institute for Quantum Computing and the Stewart Blusson Quantum Matter Institute – and CMC Microsystems have joined forces to bring to you the workshop on the design\, fabrication\, and testing of superconducting devices used in quantum computer hardware. We invite you to join the virtual workshop taking place from June 20 to July 8.
URL:https://quantum-bc.ca/event/superconducting-quantum-device-workshop-3/
END:VEVENT
BEGIN:VEVENT
DTSTART;TZID=America/Vancouver:20220630T080000
DTEND;TZID=America/Vancouver:20220630T143000
DTSTAMP:20260421T235937
CREATED:20221026T184821Z
LAST-MODIFIED:20221026T184821Z
UID:6176-1656576000-1656599400@quantum-bc.ca
SUMMARY:Superconducting Quantum Device Workshop
DESCRIPTION:Quantum computing has the potential to solve problems beyond the capabilities of conventional supercomputers. It could revolutionize the advancement of several fields\, including biochemistry\, finance\, logistics\, and artificial intelligence. However\, building quantum hardware is a great challenge\, involving both concepts and technology that have little in common with those in conventional silicon chips. It involves cryogenic environments and in the currently most advanced approach\, it relies on superconducting circuits that display macroscopic quantum effects. These concepts and techniques are not part of the usual science and engineering curriculum. \nTo fill this gap\, the Universities of Calgary and Victoria\, the two NSERC CREATE programs –  Quantum BC and QSciTech – the three quantum institutes – Institut quantique\, Institute for Quantum Computing and the Stewart Blusson Quantum Matter Institute – and CMC Microsystems have joined forces to bring to you the workshop on the design\, fabrication\, and testing of superconducting devices used in quantum computer hardware. We invite you to join the virtual workshop taking place from June 20 to July 8.
URL:https://quantum-bc.ca/event/superconducting-quantum-device-workshop-4/
END:VEVENT
END:VCALENDAR