BEGIN:VCALENDAR
VERSION:2.0
PRODID:-// - ECPv6.15.20//NONSGML v1.0//EN
CALSCALE:GREGORIAN
METHOD:PUBLISH
X-ORIGINAL-URL:https://quantum-bc.ca
X-WR-CALDESC:Events for 
REFRESH-INTERVAL;VALUE=DURATION:PT1H
X-Robots-Tag:noindex
X-PUBLISHED-TTL:PT1H
BEGIN:VTIMEZONE
TZID:America/Vancouver
BEGIN:DAYLIGHT
TZOFFSETFROM:-0800
TZOFFSETTO:-0700
TZNAME:PDT
DTSTART:20210314T100000
END:DAYLIGHT
BEGIN:STANDARD
TZOFFSETFROM:-0700
TZOFFSETTO:-0800
TZNAME:PST
DTSTART:20211107T090000
END:STANDARD
BEGIN:DAYLIGHT
TZOFFSETFROM:-0800
TZOFFSETTO:-0700
TZNAME:PDT
DTSTART:20220313T100000
END:DAYLIGHT
BEGIN:STANDARD
TZOFFSETFROM:-0700
TZOFFSETTO:-0800
TZNAME:PST
DTSTART:20221106T090000
END:STANDARD
BEGIN:DAYLIGHT
TZOFFSETFROM:-0800
TZOFFSETTO:-0700
TZNAME:PDT
DTSTART:20230312T100000
END:DAYLIGHT
BEGIN:STANDARD
TZOFFSETFROM:-0700
TZOFFSETTO:-0800
TZNAME:PST
DTSTART:20231105T090000
END:STANDARD
END:VTIMEZONE
BEGIN:VEVENT
DTSTART;TZID=America/Vancouver:20220201T110000
DTEND;TZID=America/Vancouver:20220201T122000
DTSTAMP:20260422T083919
CREATED:20221026T184058Z
LAST-MODIFIED:20221207T000405Z
UID:6162-1643713200-1643718000@quantum-bc.ca
SUMMARY:Lunch & Learn with Dr Jakob Kottmann
DESCRIPTION:The Quantum Algorithms Institute is proud to host its very first Lunch & Learn event on Tuesday\, February 1 from 11:00 am to 12:20 pm PST. Please join us to hear Dr. Jakob Kottmann from the University of Toronto speak about his work on Tequila\, a platform for rapid prototyping of quantum algorithms (https://arxiv.org/pdf/2011.03057.pdf). \nThis Lunch & Learn event is part of QAI’s goal to publicize quantum innovations by Canadian research groups and share tools available to promote cutting edge research in quantum algorithms in British Columbia. \nPlease join us Tuesday at the Zoom link below: \nZoom: https://uvic.zoom.us/j/83186782013?pwd=UXJTR01Wd0UzOGxuWjVaM1hPTThmZz09
URL:https://quantum-bc.ca/event/lunch-learn-with-dr-jakob-kottmann/
END:VEVENT
BEGIN:VEVENT
DTSTART;TZID=America/Vancouver:20220203T080000
DTEND;TZID=America/Vancouver:20220203T143000
DTSTAMP:20260422T083919
CREATED:20221026T183827Z
LAST-MODIFIED:20221026T183827Z
UID:6156-1643875200-1643898600@quantum-bc.ca
SUMMARY:Quantum Machine Learning Workshop
DESCRIPTION:QSciTech-QuantumBC Virtual Workshop 2022: Quantum Machine Learning with Gate-Based Quantum Computing Using IBM Quantum\nJanuary 24\, 27\, 31\, and February 3\, 7\, 10\, 2022\, Online \nIn 2020\, the Institut Quantique (IQ) at Université de Sherbrooke joined the IBM Quantum network through the IBM Quantum Hub at IQ. The IBM Quantum Hub at IQ provides academic and industrial members with exclusive cloud access to IBM’s quantum computers and software\, including a 127-qubits universal system\, currently the largest one available in the industry. As the first member of the IBM Quantum Hub at IQ\, CMC Microsystems offers quantum computing as a service for all Canadian academics through Canada’s National Design Network (CNDN). \nTo take advantage of this unique opportunity for the Canadian quantum computing community\, the NSERC CREATE training programs\, QSciTech and Quantum BC\, have joined forces to bring to you every year a one-of-a-kind workshop to gain practical skills on using IBM’s quantum computers for real-world applications. It will allow you to develop your expertise tangibly while running calculations on real quantum computers. \nMore Information Here
URL:https://quantum-bc.ca/event/quantum-machine-learning-workshop-4/
END:VEVENT
BEGIN:VEVENT
DTSTART;TZID=America/Vancouver:20220207T080000
DTEND;TZID=America/Vancouver:20220207T143000
DTSTAMP:20260422T083919
CREATED:20221026T183846Z
LAST-MODIFIED:20221026T183846Z
UID:6158-1644220800-1644244200@quantum-bc.ca
SUMMARY:Quantum Machine Learning Workshop
DESCRIPTION:QSciTech-QuantumBC Virtual Workshop 2022: Quantum Machine Learning with Gate-Based Quantum Computing Using IBM Quantum\nJanuary 24\, 27\, 31\, and February 3\, 7\, 10\, 2022\, Online \nIn 2020\, the Institut Quantique (IQ) at Université de Sherbrooke joined the IBM Quantum network through the IBM Quantum Hub at IQ. The IBM Quantum Hub at IQ provides academic and industrial members with exclusive cloud access to IBM’s quantum computers and software\, including a 127-qubits universal system\, currently the largest one available in the industry. As the first member of the IBM Quantum Hub at IQ\, CMC Microsystems offers quantum computing as a service for all Canadian academics through Canada’s National Design Network (CNDN). \nTo take advantage of this unique opportunity for the Canadian quantum computing community\, the NSERC CREATE training programs\, QSciTech and Quantum BC\, have joined forces to bring to you every year a one-of-a-kind workshop to gain practical skills on using IBM’s quantum computers for real-world applications. It will allow you to develop your expertise tangibly while running calculations on real quantum computers. \nMore Information Here
URL:https://quantum-bc.ca/event/quantum-machine-learning-workshop-5/
END:VEVENT
BEGIN:VEVENT
DTSTART;TZID=America/Vancouver:20220210T080000
DTEND;TZID=America/Vancouver:20220210T143000
DTSTAMP:20260422T083919
CREATED:20221026T183905Z
LAST-MODIFIED:20221026T183905Z
UID:6160-1644480000-1644503400@quantum-bc.ca
SUMMARY:Quantum Machine Learning Workshop
DESCRIPTION:QSciTech-QuantumBC Virtual Workshop 2022: Quantum Machine Learning with Gate-Based Quantum Computing Using IBM Quantum\nJanuary 24\, 27\, 31\, and February 3\, 7\, 10\, 2022\, Online \nIn 2020\, the Institut Quantique (IQ) at Université de Sherbrooke joined the IBM Quantum network through the IBM Quantum Hub at IQ. The IBM Quantum Hub at IQ provides academic and industrial members with exclusive cloud access to IBM’s quantum computers and software\, including a 127-qubits universal system\, currently the largest one available in the industry. As the first member of the IBM Quantum Hub at IQ\, CMC Microsystems offers quantum computing as a service for all Canadian academics through Canada’s National Design Network (CNDN). \nTo take advantage of this unique opportunity for the Canadian quantum computing community\, the NSERC CREATE training programs\, QSciTech and Quantum BC\, have joined forces to bring to you every year a one-of-a-kind workshop to gain practical skills on using IBM’s quantum computers for real-world applications. It will allow you to develop your expertise tangibly while running calculations on real quantum computers. \nMore Information Here
URL:https://quantum-bc.ca/event/quantum-machine-learning-workshop-6/
END:VEVENT
END:VCALENDAR