BEGIN:VCALENDAR
VERSION:2.0
PRODID:-// - ECPv6.15.20//NONSGML v1.0//EN
CALSCALE:GREGORIAN
METHOD:PUBLISH
X-ORIGINAL-URL:https://quantum-bc.ca
X-WR-CALDESC:Events for 
REFRESH-INTERVAL;VALUE=DURATION:PT1H
X-Robots-Tag:noindex
X-PUBLISHED-TTL:PT1H
BEGIN:VTIMEZONE
TZID:America/Vancouver
BEGIN:DAYLIGHT
TZOFFSETFROM:-0800
TZOFFSETTO:-0700
TZNAME:PDT
DTSTART:20230312T100000
END:DAYLIGHT
BEGIN:STANDARD
TZOFFSETFROM:-0700
TZOFFSETTO:-0800
TZNAME:PST
DTSTART:20231105T090000
END:STANDARD
BEGIN:DAYLIGHT
TZOFFSETFROM:-0800
TZOFFSETTO:-0700
TZNAME:PDT
DTSTART:20240310T100000
END:DAYLIGHT
BEGIN:STANDARD
TZOFFSETFROM:-0700
TZOFFSETTO:-0800
TZNAME:PST
DTSTART:20241103T090000
END:STANDARD
BEGIN:DAYLIGHT
TZOFFSETFROM:-0800
TZOFFSETTO:-0700
TZNAME:PDT
DTSTART:20250309T100000
END:DAYLIGHT
BEGIN:STANDARD
TZOFFSETFROM:-0700
TZOFFSETTO:-0800
TZNAME:PST
DTSTART:20251102T090000
END:STANDARD
END:VTIMEZONE
BEGIN:VEVENT
DTSTART;TZID=America/Vancouver:20240514T140000
DTEND;TZID=America/Vancouver:20240514T150000
DTSTAMP:20260420T095036
CREATED:20240126T201422Z
LAST-MODIFIED:20240501T165331Z
UID:7176-1715695200-1715698800@quantum-bc.ca
SUMMARY:Quantum BC Seminar Series - Dr. Joe Salfi
DESCRIPTION:Join us on Tuesday\, May 14 at 2pm for a seminar by Dr. Joe Salfi from the University of British Columbia. The title of his seminar is Scalable Quantum Computation With Spin. \nhttps://ubc.zoom.us/j/69443327772?pwd=TGhhTXFIQ3ZiUmNrN0pUa3FObTNydz09 \nMeeting ID: 694 4332 7772 Passcode: 996727 \n\nJoin in Person: \nUBC: MCLD 3038 \nSFU: WAC 7200 \nUVIC: ELL 226 \n\nTitle: \nScalable Quantum Computation With Spin \nAbstract: \nSpin in semiconductors have recently emerged as useful building blocks for solid-state quantum computation. Here I will describe my group’s research at UBC and QMI on development of components for scalable quantum computation with spin\, including magnetic-field compatible superconducting quantum limited amplifiers and converters\, and preliminary work on the design of a spin-based quantum transducer for building a quantum network.  After this\, I will turn to describing our efforts on developing a semiconductor quantum processor and simulator based on spins of quantum dots. I will conclude by briefly describing and a new collaborative multi-PI project at UBC and QMI on improving the scalability of control of quantum processors operating at cryogenic temperatures. \nBio: \nJoseph Salfi completed at PhD at the University of Toronto in 2011. From 2011 to 2015 he was a postdoctoral research fellow at at the University of New South Wales (UNSW) and Centre for Quantum Computation and Communication Technology (CQC2T)\, the international epicentre for silicon-based quantum computation. In 2016\, he became junior faculty at the UNSW and CQC2T\, after being awarded the prestigios ARC Discovery Early Career Research Award. Today he is an Assistant Professor at the University of British Columbia in the Department of Electrical and Computer Engineering\, and Department of Physics and Astronomy (by courtesy)\, and the lead Principal Investigator of the Grand Challenge in Quantum Computation at the Blusson Quantum Matter Institute (QMI) and Lead PI of the pan-Canadian Quantum Consortium on Quantum Simulation with Spin Qubits.  His experiemental and theoretical research has overturned > 10 years of conventional wisdom by showing that spin qubits with appreciable intrinsic spin-orbit coupling\, which make qubits easier to control interconnect electrically\, is compatible with ultra-long qubit coherence times.
URL:https://quantum-bc.ca/event/quantum-bc-seminar-series-dr-joe-salfi/
END:VEVENT
END:VCALENDAR