BEGIN:VCALENDAR
VERSION:2.0
PRODID:-// - ECPv6.15.20//NONSGML v1.0//EN
CALSCALE:GREGORIAN
METHOD:PUBLISH
X-ORIGINAL-URL:https://quantum-bc.ca
X-WR-CALDESC:Events for 
REFRESH-INTERVAL;VALUE=DURATION:PT1H
X-Robots-Tag:noindex
X-PUBLISHED-TTL:PT1H
BEGIN:VTIMEZONE
TZID:America/Vancouver
BEGIN:DAYLIGHT
TZOFFSETFROM:-0800
TZOFFSETTO:-0700
TZNAME:PDT
DTSTART:20220313T100000
END:DAYLIGHT
BEGIN:STANDARD
TZOFFSETFROM:-0700
TZOFFSETTO:-0800
TZNAME:PST
DTSTART:20221106T090000
END:STANDARD
BEGIN:DAYLIGHT
TZOFFSETFROM:-0800
TZOFFSETTO:-0700
TZNAME:PDT
DTSTART:20230312T100000
END:DAYLIGHT
BEGIN:STANDARD
TZOFFSETFROM:-0700
TZOFFSETTO:-0800
TZNAME:PST
DTSTART:20231105T090000
END:STANDARD
BEGIN:DAYLIGHT
TZOFFSETFROM:-0800
TZOFFSETTO:-0700
TZNAME:PDT
DTSTART:20240310T100000
END:DAYLIGHT
BEGIN:STANDARD
TZOFFSETFROM:-0700
TZOFFSETTO:-0800
TZNAME:PST
DTSTART:20241103T090000
END:STANDARD
END:VTIMEZONE
BEGIN:VEVENT
DTSTART;TZID=America/Vancouver:20230428T100000
DTEND;TZID=America/Vancouver:20230428T160000
DTSTAMP:20260421T095621
CREATED:20230405T215924Z
LAST-MODIFIED:20230405T215924Z
UID:6463-1682676000-1682697600@quantum-bc.ca
SUMMARY:Quantum BC Research Day 2023
DESCRIPTION:Quantum BC Research Day 2023 is an opportunity for the Quantum BC community to gather and discuss the latest research in quantum science and technologies. Students\, postdocs\, and faculty are invited to share their current research and/or future research goals. Quantum BC Research Day 2023 provides a venue for networking to strengthen the connectivity of the Quantum BC community. The program includes a poster session and keynote talks by Quantum BC faculty and industry experts. \n\n\n\n\nRegister today whether you are giving a talk\, presenting a poster or attending as a guest! \n\n\n\n\n\n\nBob Wright Center Room A104\, University of Victoria 3800 Finnerty Road Victoria\, BC V8P 5C2
URL:https://quantum-bc.ca/event/quantum-bc-research-day-2023/
LOCATION:University of Victoria\, 3800 Finnerty Road\, Victoria\, BC\, V8P 5C2\, Canada
END:VEVENT
END:VCALENDAR