BEGIN:VCALENDAR
VERSION:2.0
PRODID:-// - ECPv6.15.20//NONSGML v1.0//EN
CALSCALE:GREGORIAN
METHOD:PUBLISH
X-ORIGINAL-URL:https://quantum-bc.ca
X-WR-CALDESC:Events for 
REFRESH-INTERVAL;VALUE=DURATION:PT1H
X-Robots-Tag:noindex
X-PUBLISHED-TTL:PT1H
BEGIN:VTIMEZONE
TZID:America/Vancouver
BEGIN:DAYLIGHT
TZOFFSETFROM:-0800
TZOFFSETTO:-0700
TZNAME:PDT
DTSTART:20220313T100000
END:DAYLIGHT
BEGIN:STANDARD
TZOFFSETFROM:-0700
TZOFFSETTO:-0800
TZNAME:PST
DTSTART:20221106T090000
END:STANDARD
BEGIN:DAYLIGHT
TZOFFSETFROM:-0800
TZOFFSETTO:-0700
TZNAME:PDT
DTSTART:20230312T100000
END:DAYLIGHT
BEGIN:STANDARD
TZOFFSETFROM:-0700
TZOFFSETTO:-0800
TZNAME:PST
DTSTART:20231105T090000
END:STANDARD
BEGIN:DAYLIGHT
TZOFFSETFROM:-0800
TZOFFSETTO:-0700
TZNAME:PDT
DTSTART:20240310T100000
END:DAYLIGHT
BEGIN:STANDARD
TZOFFSETFROM:-0700
TZOFFSETTO:-0800
TZNAME:PST
DTSTART:20241103T090000
END:STANDARD
END:VTIMEZONE
BEGIN:VEVENT
DTSTART;TZID=America/Vancouver:20230411T140000
DTEND;TZID=America/Vancouver:20230411T150000
DTSTAMP:20260421T095428
CREATED:20230320T173722Z
LAST-MODIFIED:20230405T001823Z
UID:6435-1681221600-1681225200@quantum-bc.ca
SUMMARY:QBC Seminar Series - Thomas E. Baker
DESCRIPTION:The Quantum BC Seminar Series is a monthly talk given by faculty in BC on various topics related to quantum computing. The talks happen on the second Tuesday of each month at 2pm. \n  \nPlease join us for our second seminar with Dr. Thomas Baker on Tuesday\, April 11\, 2023 at 2pm. \nJoin on Zoom: \nhttps://ubc.zoom.us/j/69443327772?pwd=TGhhTXFIQ3ZiUmNrN0pUa3FObTNydz09 \nMeeting ID: 694 4332 7772 \nPasscode: 996727 \nTitle: Quantum algorithms now and in the future \nAuthor: Thomas E. Baker\, Canada Research Chair in Quantum Computing for Modelling of Molecules and Materials \nAffiliation: Department of Physics & Astronomy; Department of Chemistry; Centre for Advanced Materials and Related Technology\, University of Victoria\, British Columbia V8P 5C2\, Canada \nAbstract: \nComputing has revolutionized the landscape of what is possible in terms of modern technology over the past century. Continuing to improve technologies over the next century offers to improve our technological capabilities as much or more so as has already been done. This would affect everything from medicine to farming yields to battery storage. How a computer is built and what algorithms are best run on it are crucial questions  for ensuring that the best and most accurate results are obtained. This talk will focus primarily on how algorithms can be made in two contexts: one for the quantum computer and the other for classical computers. Algorithms to access the most efficient information to describe the many-electron solutions from the quantum computer will be discussed. Additionally\, tensor network algorithms that rely on entanglement renormalization\, an efficient strategy for physically relevant systems\, will be discussed and introduced here. With the best algorithms\, it will be possible to push technological advances forward and achieve noticeable improvements in everyday life. \nThis research was undertaken\, in part\, thanks to funding from the Canada Research Chairs Program. T.E.B. is grateful for support from the University of Victoria’s start-up grant from the Faculty of Science. \n 
URL:https://quantum-bc.ca/event/qbc-seminar-series-thomas-baker/
END:VEVENT
END:VCALENDAR