BEGIN:VCALENDAR
VERSION:2.0
PRODID:-// - ECPv6.15.20//NONSGML v1.0//EN
CALSCALE:GREGORIAN
METHOD:PUBLISH
X-ORIGINAL-URL:https://quantum-bc.ca
X-WR-CALDESC:Events for 
REFRESH-INTERVAL;VALUE=DURATION:PT1H
X-Robots-Tag:noindex
X-PUBLISHED-TTL:PT1H
BEGIN:VTIMEZONE
TZID:America/Vancouver
BEGIN:DAYLIGHT
TZOFFSETFROM:-0800
TZOFFSETTO:-0700
TZNAME:PDT
DTSTART:20210314T100000
END:DAYLIGHT
BEGIN:STANDARD
TZOFFSETFROM:-0700
TZOFFSETTO:-0800
TZNAME:PST
DTSTART:20211107T090000
END:STANDARD
BEGIN:DAYLIGHT
TZOFFSETFROM:-0800
TZOFFSETTO:-0700
TZNAME:PDT
DTSTART:20220313T100000
END:DAYLIGHT
BEGIN:STANDARD
TZOFFSETFROM:-0700
TZOFFSETTO:-0800
TZNAME:PST
DTSTART:20221106T090000
END:STANDARD
BEGIN:DAYLIGHT
TZOFFSETFROM:-0800
TZOFFSETTO:-0700
TZNAME:PDT
DTSTART:20230312T100000
END:DAYLIGHT
BEGIN:STANDARD
TZOFFSETFROM:-0700
TZOFFSETTO:-0800
TZNAME:PST
DTSTART:20231105T090000
END:STANDARD
END:VTIMEZONE
BEGIN:VEVENT
DTSTART;TZID=America/Vancouver:20220330T110000
DTEND;TZID=America/Vancouver:20220330T120000
DTSTAMP:20260422T064022
CREATED:20221026T184220Z
LAST-MODIFIED:20230322T170950Z
UID:6164-1648638000-1648641600@quantum-bc.ca
SUMMARY:Alan Aspuru-Guzik - Tripartite Seminar Series Speaker
DESCRIPTION:For our third instalment of the Tripartite Seminar Series\, we welcome Alan Aspuru-Guzik from the University of Toronto. He will speak on the topic Quantum Algorithms for Near-Term Quantum Computers.\n\n\nABSTRACT: \nQuantum algorithms for near-term quantum computers \nWe are in the NISQ era of quantum computing. NISQ stands for “Near-term intermediate-scale quantum computer”. These machines are not error corrected and have of the order of tens of quantum bits. In this talk\, I will discuss a family of quantum algorithms that are promising applications for these devices that my group and others have developed. I will discuss potential applications for the simulation of chemistry and materials and quantum machine learning. \n\n\nThe Tripartite Quantum Computing Seminar Series (TQCSS)\, intends to attract a wide audience of people in British Columbia and beyond. The TQCSS Committee is comprised of faculty from 3 BC universities.\n\nSeminars will take place some Wednesdays over Zoom with a 45 minute seminar followed by 10-15 mins for Q&A.\n\nWatch the Seminar Here
URL:https://quantum-bc.ca/event/alan-aspuru-guzik-tripartite-seminar-series-speaker/
END:VEVENT
END:VCALENDAR