BEGIN:VCALENDAR
VERSION:2.0
PRODID:-// - ECPv6.15.20//NONSGML v1.0//EN
CALSCALE:GREGORIAN
METHOD:PUBLISH
X-ORIGINAL-URL:https://quantum-bc.ca
X-WR-CALDESC:Events for 
REFRESH-INTERVAL;VALUE=DURATION:PT1H
X-Robots-Tag:noindex
X-PUBLISHED-TTL:PT1H
BEGIN:VTIMEZONE
TZID:America/Vancouver
BEGIN:DAYLIGHT
TZOFFSETFROM:-0800
TZOFFSETTO:-0700
TZNAME:PDT
DTSTART:20210314T100000
END:DAYLIGHT
BEGIN:STANDARD
TZOFFSETFROM:-0700
TZOFFSETTO:-0800
TZNAME:PST
DTSTART:20211107T090000
END:STANDARD
BEGIN:DAYLIGHT
TZOFFSETFROM:-0800
TZOFFSETTO:-0700
TZNAME:PDT
DTSTART:20220313T100000
END:DAYLIGHT
BEGIN:STANDARD
TZOFFSETFROM:-0700
TZOFFSETTO:-0800
TZNAME:PST
DTSTART:20221106T090000
END:STANDARD
BEGIN:DAYLIGHT
TZOFFSETFROM:-0800
TZOFFSETTO:-0700
TZNAME:PDT
DTSTART:20230312T100000
END:DAYLIGHT
BEGIN:STANDARD
TZOFFSETFROM:-0700
TZOFFSETTO:-0800
TZNAME:PST
DTSTART:20231105T090000
END:STANDARD
END:VTIMEZONE
BEGIN:VEVENT
DTSTART;TZID=America/Vancouver:20220201T110000
DTEND;TZID=America/Vancouver:20220201T122000
DTSTAMP:20260422T101156
CREATED:20221026T184058Z
LAST-MODIFIED:20221207T000405Z
UID:6162-1643713200-1643718000@quantum-bc.ca
SUMMARY:Lunch & Learn with Dr Jakob Kottmann
DESCRIPTION:The Quantum Algorithms Institute is proud to host its very first Lunch & Learn event on Tuesday\, February 1 from 11:00 am to 12:20 pm PST. Please join us to hear Dr. Jakob Kottmann from the University of Toronto speak about his work on Tequila\, a platform for rapid prototyping of quantum algorithms (https://arxiv.org/pdf/2011.03057.pdf). \nThis Lunch & Learn event is part of QAI’s goal to publicize quantum innovations by Canadian research groups and share tools available to promote cutting edge research in quantum algorithms in British Columbia. \nPlease join us Tuesday at the Zoom link below: \nZoom: https://uvic.zoom.us/j/83186782013?pwd=UXJTR01Wd0UzOGxuWjVaM1hPTThmZz09
URL:https://quantum-bc.ca/event/lunch-learn-with-dr-jakob-kottmann/
END:VEVENT
END:VCALENDAR